BEGIN:VCALENDAR
VERSION:2.0
PRODID:-//Eine-Welt-Laden Weil der Stadt - ECPv6.15.17.1//NONSGML v1.0//EN
CALSCALE:GREGORIAN
METHOD:PUBLISH
X-ORIGINAL-URL:https://eine-welt-laden-wdst.de
X-WR-CALDESC:Veranstaltungen für Eine-Welt-Laden Weil der Stadt
REFRESH-INTERVAL;VALUE=DURATION:PT1H
X-Robots-Tag:noindex
X-PUBLISHED-TTL:PT1H
BEGIN:VTIMEZONE
TZID:Europe/Berlin
BEGIN:DAYLIGHT
TZOFFSETFROM:+0100
TZOFFSETTO:+0200
TZNAME:CEST
DTSTART:20240331T010000
END:DAYLIGHT
BEGIN:STANDARD
TZOFFSETFROM:+0200
TZOFFSETTO:+0100
TZNAME:CET
DTSTART:20241027T010000
END:STANDARD
BEGIN:DAYLIGHT
TZOFFSETFROM:+0100
TZOFFSETTO:+0200
TZNAME:CEST
DTSTART:20250330T010000
END:DAYLIGHT
BEGIN:STANDARD
TZOFFSETFROM:+0200
TZOFFSETTO:+0100
TZNAME:CET
DTSTART:20251026T010000
END:STANDARD
BEGIN:DAYLIGHT
TZOFFSETFROM:+0100
TZOFFSETTO:+0200
TZNAME:CEST
DTSTART:20260329T010000
END:DAYLIGHT
BEGIN:STANDARD
TZOFFSETFROM:+0200
TZOFFSETTO:+0100
TZNAME:CET
DTSTART:20261025T010000
END:STANDARD
END:VTIMEZONE
BEGIN:VEVENT
DTSTART;VALUE=DATE:20250628
DTEND;VALUE=DATE:20250630
DTSTAMP:20260420T194212
CREATED:20250530T104045Z
LAST-MODIFIED:20250606T214804Z
UID:5089-1751068800-1751241599@eine-welt-laden-wdst.de
SUMMARY:Mango-Lassi zum Stadtfest
DESCRIPTION:  \nUnsere Mangos stehen im Mittelpunkt! \nMango-Lassi\, wie man es aus indischen Restaurants kennt\, kann man selbst aus fairem Mangopüree zubereiten! Probiert mal\, wie gut es schmeckt!\nAußerdem gibt es Mango-Angebote und Infos rund um die Mangos von WeltPartner.\nUnd ein kleines Geschenk für jeden… \nUnsere Öffnungszeiten an diesem Wochenende:\nSa 9-20 Uhr\nSo 12-17 Uhr
URL:https://eine-welt-laden-wdst.de/veranstaltung/unser-beitrag-zum-stadtfest/
LOCATION:Eine-Welt-Laden\, Pfarrgasse 8\, Weil der Stadt\, 71263\, Deutschland
CATEGORIES:Veranstaltung
ATTACH;FMTTYPE=image/jpeg:https://eine-welt-laden-wdst.de/wp-content/uploads/2025/05/Titel_Stadtfest_2025.klein_.jpg
END:VEVENT
END:VCALENDAR