BEGIN:VCALENDAR
VERSION:2.0
PRODID:-//Eine-Welt-Laden Weil der Stadt - ECPv6.15.17.1//NONSGML v1.0//EN
CALSCALE:GREGORIAN
METHOD:PUBLISH
X-WR-CALNAME:Eine-Welt-Laden Weil der Stadt
X-ORIGINAL-URL:https://eine-welt-laden-wdst.de
X-WR-CALDESC:Veranstaltungen für Eine-Welt-Laden Weil der Stadt
REFRESH-INTERVAL;VALUE=DURATION:PT1H
X-Robots-Tag:noindex
X-PUBLISHED-TTL:PT1H
BEGIN:VTIMEZONE
TZID:Europe/Berlin
BEGIN:DAYLIGHT
TZOFFSETFROM:+0100
TZOFFSETTO:+0200
TZNAME:CEST
DTSTART:20230326T010000
END:DAYLIGHT
BEGIN:STANDARD
TZOFFSETFROM:+0200
TZOFFSETTO:+0100
TZNAME:CET
DTSTART:20231029T010000
END:STANDARD
BEGIN:DAYLIGHT
TZOFFSETFROM:+0100
TZOFFSETTO:+0200
TZNAME:CEST
DTSTART:20240331T010000
END:DAYLIGHT
BEGIN:STANDARD
TZOFFSETFROM:+0200
TZOFFSETTO:+0100
TZNAME:CET
DTSTART:20241027T010000
END:STANDARD
BEGIN:DAYLIGHT
TZOFFSETFROM:+0100
TZOFFSETTO:+0200
TZNAME:CEST
DTSTART:20250330T010000
END:DAYLIGHT
BEGIN:STANDARD
TZOFFSETFROM:+0200
TZOFFSETTO:+0100
TZNAME:CET
DTSTART:20251026T010000
END:STANDARD
END:VTIMEZONE
BEGIN:VEVENT
DTSTART;VALUE=DATE:20240812
DTEND;VALUE=DATE:20240825
DTSTAMP:20260423T105451
CREATED:20240710T201842Z
LAST-MODIFIED:20240710T201953Z
UID:3651-1723420800-1724543999@eine-welt-laden-wdst.de
SUMMARY:Vom 12.08 bis 24.08. ist unser Laden geschlossen!
DESCRIPTION:Vom 12.08. bis 24.08. ist unser Laden geschlossen!\nWir wünschen auch euch schöne und erholsame Ferien!
URL:https://eine-welt-laden-wdst.de/veranstaltung/unser-oeffnungszeiten-im-august/
CATEGORIES:Veranstaltung
ATTACH;FMTTYPE=image/jpeg:https://eine-welt-laden-wdst.de/wp-content/uploads/2021/07/L-2021-07.Strandstuehle.jpg
END:VEVENT
END:VCALENDAR